BEGIN:VCALENDAR
VERSION:2.0
PRODID:-//Institut für Sympathikus Therapie - ECPv6.15.15//NONSGML v1.0//EN
CALSCALE:GREGORIAN
METHOD:PUBLISH
X-WR-CALNAME:Institut für Sympathikus Therapie
X-ORIGINAL-URL:https://www.sympathikus-therapie.de
X-WR-CALDESC:Veranstaltungen für Institut für Sympathikus Therapie
REFRESH-INTERVAL;VALUE=DURATION:PT1H
X-Robots-Tag:noindex
X-PUBLISHED-TTL:PT1H
BEGIN:VTIMEZONE
TZID:UTC
BEGIN:STANDARD
TZOFFSETFROM:+0000
TZOFFSETTO:+0000
TZNAME:UTC
DTSTART:20220101T000000
END:STANDARD
END:VTIMEZONE
BEGIN:VEVENT
DTSTART;TZID=UTC:20230929T093000
DTEND;TZID=UTC:20230930T170000
DTSTAMP:20260421T152717
CREATED:20220906T151913Z
LAST-MODIFIED:20220906T152052Z
UID:3523-1695979800-1696093200@www.sympathikus-therapie.de
SUMMARY:Sympathikus-Therapie kompakt in Regensburg
DESCRIPTION:weiterführende Links: \nKursbuchung bei Fortbildungsakademie Markus Pschick \nReferent: Armin Neumeier \nSympathikus-Therapie kompakt \n 
URL:https://www.sympathikus-therapie.de/event/sympathikus-therapie-kompakt-in/
LOCATION:Fortbildungsakademie – Markus Pschick GmbH Regensburg\, Im Gewerbepark A15\, Regensburg\, 93059\, Deutschland
ATTACH;FMTTYPE=image/png:https://www.sympathikus-therapie.de/wp-content/uploads/2020/08/panorama-3578084_1920.png
END:VEVENT
END:VCALENDAR