BEGIN:VCALENDAR
VERSION:2.0
PRODID:-//Institut für Sympathikus Therapie - ECPv6.15.15//NONSGML v1.0//EN
CALSCALE:GREGORIAN
METHOD:PUBLISH
X-ORIGINAL-URL:https://www.sympathikus-therapie.de
X-WR-CALDESC:Veranstaltungen für Institut für Sympathikus Therapie
REFRESH-INTERVAL;VALUE=DURATION:PT1H
X-Robots-Tag:noindex
X-PUBLISHED-TTL:PT1H
BEGIN:VTIMEZONE
TZID:UTC
BEGIN:STANDARD
TZOFFSETFROM:+0000
TZOFFSETTO:+0000
TZNAME:UTC
DTSTART:20220101T000000
END:STANDARD
END:VTIMEZONE
BEGIN:VEVENT
DTSTART;TZID=UTC:20231020T140000
DTEND;TZID=UTC:20231021T173000
DTSTAMP:20260421T152749
CREATED:20220906T135744Z
LAST-MODIFIED:20230908T154507Z
UID:3495-1697810400-1697909400@www.sympathikus-therapie.de
SUMMARY:Mikropressur und Mikrosysteme in Nürnberg
DESCRIPTION:Kursbuchung bei mediABC \nReferentin: Andrea Oberhofer \nMikropressur und Reflexzonentherapie: Inhalt \n 
URL:https://www.sympathikus-therapie.de/event/mikropressur-in-nuernberg-6/
LOCATION:das mediABC – Fort- und Weiterbildungen Nürnberg\, Steinfeldstr. 1\, Nürnberg\, 90425
ATTACH;FMTTYPE=image/jpeg:https://www.sympathikus-therapie.de/wp-content/uploads/2017/07/nuremberg-542513_1920.jpg
END:VEVENT
END:VCALENDAR