BEGIN:VCALENDAR
VERSION:2.0
PRODID:-//Institut für Sympathikus Therapie - ECPv6.15.15//NONSGML v1.0//EN
CALSCALE:GREGORIAN
METHOD:PUBLISH
X-WR-CALNAME:Institut für Sympathikus Therapie
X-ORIGINAL-URL:https://www.sympathikus-therapie.de
X-WR-CALDESC:Veranstaltungen für Institut für Sympathikus Therapie
REFRESH-INTERVAL;VALUE=DURATION:PT1H
X-Robots-Tag:noindex
X-PUBLISHED-TTL:PT1H
BEGIN:VTIMEZONE
TZID:Europe/Berlin
BEGIN:DAYLIGHT
TZOFFSETFROM:+0100
TZOFFSETTO:+0200
TZNAME:CEST
DTSTART:20220327T010000
END:DAYLIGHT
BEGIN:STANDARD
TZOFFSETFROM:+0200
TZOFFSETTO:+0100
TZNAME:CET
DTSTART:20221030T010000
END:STANDARD
BEGIN:DAYLIGHT
TZOFFSETFROM:+0100
TZOFFSETTO:+0200
TZNAME:CEST
DTSTART:20230326T010000
END:DAYLIGHT
BEGIN:STANDARD
TZOFFSETFROM:+0200
TZOFFSETTO:+0100
TZNAME:CET
DTSTART:20231029T010000
END:STANDARD
BEGIN:DAYLIGHT
TZOFFSETFROM:+0100
TZOFFSETTO:+0200
TZNAME:CEST
DTSTART:20240331T010000
END:DAYLIGHT
BEGIN:STANDARD
TZOFFSETFROM:+0200
TZOFFSETTO:+0100
TZNAME:CET
DTSTART:20241027T010000
END:STANDARD
END:VTIMEZONE
BEGIN:VEVENT
DTSTART;TZID=Europe/Berlin:20231028T093000
DTEND;TZID=Europe/Berlin:20231029T170000
DTSTAMP:20260421T152623
CREATED:20200818T095223Z
LAST-MODIFIED:20220906T131731Z
UID:2732-1698485400-1698598800@www.sympathikus-therapie.de
SUMMARY:Sympathikus-Therapie kompakt in Köln
DESCRIPTION:weiterführende Links: \nKursbuchung bei Döpfer Akademie \nReferentin: Sinje Hoffmann \nKompaktkurs Inhalt \n  \n 
URL:https://www.sympathikus-therapie.de/event/sympathikus-therapie-teil-1-in-koeln-3/
LOCATION:Döpfer Akademie Köln\, Custodisstraße 3–17\, Köln\, Nordreihn-Westfalen\, 50679\, Deutschland
ATTACH;FMTTYPE=image/jpeg:https://www.sympathikus-therapie.de/wp-content/uploads/2018/06/cologne-1846353_960_720.jpg
END:VEVENT
END:VCALENDAR