BEGIN:VCALENDAR
VERSION:2.0
PRODID:-//Institut für Sympathikus Therapie - ECPv6.15.15//NONSGML v1.0//EN
CALSCALE:GREGORIAN
METHOD:PUBLISH
X-WR-CALNAME:Institut für Sympathikus Therapie
X-ORIGINAL-URL:https://www.sympathikus-therapie.de
X-WR-CALDESC:Veranstaltungen für Institut für Sympathikus Therapie
REFRESH-INTERVAL;VALUE=DURATION:PT1H
X-Robots-Tag:noindex
X-PUBLISHED-TTL:PT1H
BEGIN:VTIMEZONE
TZID:UTC
BEGIN:STANDARD
TZOFFSETFROM:+0000
TZOFFSETTO:+0000
TZNAME:UTC
DTSTART:20220101T000000
END:STANDARD
END:VTIMEZONE
BEGIN:VEVENT
DTSTART;TZID=UTC:20231124T093000
DTEND;TZID=UTC:20231125T170000
DTSTAMP:20260421T140435
CREATED:20220906T152155Z
LAST-MODIFIED:20220910T192604Z
UID:3525-1700818200-1700931600@www.sympathikus-therapie.de
SUMMARY:Sympathikus-Therapie kompakt in Nürnberg
DESCRIPTION:weiterführende Links: \nKursbuchung bei TOP-Physio Nürnberg \nReferent: Armin Neumeier \nSympathikus-Therapie kompakt
URL:https://www.sympathikus-therapie.de/event/sympathikus-therapie-teil-2-in-nuernberg-8/
LOCATION:TOP-PHYSIO Schulungszentren GmbH Nürnberg\, Laufamholzstr. 116\, Nürnberg\, Bayern\, 90482\, Deutschland
ATTACH;FMTTYPE=image/jpeg:https://www.sympathikus-therapie.de/wp-content/uploads/2017/07/nuremberg-542513_1920.jpg
END:VEVENT
END:VCALENDAR