BEGIN:VCALENDAR
VERSION:2.0
PRODID:-//Institut für Sympathikus Therapie - ECPv6.15.15//NONSGML v1.0//EN
CALSCALE:GREGORIAN
METHOD:PUBLISH
X-WR-CALNAME:Institut für Sympathikus Therapie
X-ORIGINAL-URL:https://www.sympathikus-therapie.de
X-WR-CALDESC:Veranstaltungen für Institut für Sympathikus Therapie
REFRESH-INTERVAL;VALUE=DURATION:PT1H
X-Robots-Tag:noindex
X-PUBLISHED-TTL:PT1H
BEGIN:VTIMEZONE
TZID:UTC
BEGIN:STANDARD
TZOFFSETFROM:+0000
TZOFFSETTO:+0000
TZNAME:UTC
DTSTART:20220101T000000
END:STANDARD
END:VTIMEZONE
BEGIN:VEVENT
DTSTART;TZID=UTC:20231201T093000
DTEND;TZID=UTC:20231202T170000
DTSTAMP:20260421T122915
CREATED:20230112T110343Z
LAST-MODIFIED:20230329T130018Z
UID:3711-1701423000-1701536400@www.sympathikus-therapie.de
SUMMARY:Sympathikus-Therapie kompakt in Ulm
DESCRIPTION:Kursbuchung über Ulm-Kolleg \nReferentin: Andrea Oberhofer \nKompaktkurs Inhalt
URL:https://www.sympathikus-therapie.de/event/sympathikus-therapie-kompakt-in-ulm/
LOCATION:Ulmkolleg Lehr -und Weiterbildungsinstitute GmbH & Co.KG\, Oberberghof 5\, Ulm\, Baden-Württemberg\, 89081\, Deutschland
ATTACH;FMTTYPE=image/jpeg:https://www.sympathikus-therapie.de/wp-content/uploads/2018/06/ulm-1173798_1920.jpg
END:VEVENT
END:VCALENDAR