BEGIN:VCALENDAR
VERSION:2.0
PRODID:-//Institut für Sympathikus Therapie - ECPv6.15.15//NONSGML v1.0//EN
CALSCALE:GREGORIAN
METHOD:PUBLISH
X-ORIGINAL-URL:https://www.sympathikus-therapie.de
X-WR-CALDESC:Veranstaltungen für Institut für Sympathikus Therapie
REFRESH-INTERVAL;VALUE=DURATION:PT1H
X-Robots-Tag:noindex
X-PUBLISHED-TTL:PT1H
BEGIN:VTIMEZONE
TZID:UTC
BEGIN:STANDARD
TZOFFSETFROM:+0000
TZOFFSETTO:+0000
TZNAME:UTC
DTSTART:20220101T000000
END:STANDARD
END:VTIMEZONE
BEGIN:VEVENT
DTSTART;TZID=UTC:20231210T093000
DTEND;TZID=UTC:20231210T180000
DTSTAMP:20260421T123017
CREATED:20220906T152949Z
LAST-MODIFIED:20220912T145923Z
UID:3528-1702200600-1702231200@www.sympathikus-therapie.de
SUMMARY:Sympathikus Praxis-Tag mit Statik-Korrektur in Nürnberg
DESCRIPTION:weiterführende Links: \nKursbuchung bei mediABC \nReferentin: Andrea Oberhofer \nKursbeschreibung \n 
URL:https://www.sympathikus-therapie.de/event/sympathikus-therapie-kompakt-in-nuernberg-2/
LOCATION:das mediABC – Fort- und Weiterbildungen Nürnberg\, Steinfeldstr. 1\, Nürnberg\, 90425
ATTACH;FMTTYPE=image/jpeg:https://www.sympathikus-therapie.de/wp-content/uploads/2017/07/nuremberg-542513_1920.jpg
END:VEVENT
END:VCALENDAR